BEGIN:VCALENDAR
VERSION:2.0
PRODID:-//St Benet Fink, Tottenham - ECPv6.15.20//NONSGML v1.0//EN
CALSCALE:GREGORIAN
METHOD:PUBLISH
X-ORIGINAL-URL:https://www.stbenetfink.org.uk
X-WR-CALDESC:Events for St Benet Fink, Tottenham
REFRESH-INTERVAL;VALUE=DURATION:PT1H
X-Robots-Tag:noindex
X-PUBLISHED-TTL:PT1H
BEGIN:VTIMEZONE
TZID:UTC
BEGIN:STANDARD
TZOFFSETFROM:+0000
TZOFFSETTO:+0000
TZNAME:UTC
DTSTART:20240101T000000
END:STANDARD
END:VTIMEZONE
BEGIN:VEVENT
DTSTART;TZID=UTC:20250518T110000
DTEND;TZID=UTC:20250518T123000
DTSTAMP:20260422T100727
CREATED:20250103T160027Z
LAST-MODIFIED:20250103T160027Z
UID:2706-1747566000-1747571400@www.stbenetfink.org.uk
SUMMARY:Choir Mass\, followed by Drinks & Canapés
DESCRIPTION:Join us for our May Choir & Canapés Mass! \nOur choir of professional singers\, the only such choir in Tottenham\, will be singing beautiful music at this Mass. \nAfter Mass we will be serving homemade canapés\, wine and soft drinks to all. This is a great way to experience church\, get to know new people if you wish or to experience some beautiful music. No matter your intentions\, all are most welcome.
URL:https://www.stbenetfink.org.uk/event/choir-mass-followed-by-drinks-canapes-3/
CATEGORIES:featured,worship
ATTACH;FMTTYPE=image/jpeg:https://www.stbenetfink.org.uk/wp-content/uploads/hero/36774718_1813713635376741_8688542698904223744_o.jpg
END:VEVENT
END:VCALENDAR