BEGIN:VCALENDAR
VERSION:2.0
PRODID:-//St Benet Fink, Tottenham - ECPv6.15.20//NONSGML v1.0//EN
CALSCALE:GREGORIAN
METHOD:PUBLISH
X-WR-CALNAME:St Benet Fink, Tottenham
X-ORIGINAL-URL:https://www.stbenetfink.org.uk
X-WR-CALDESC:Events for St Benet Fink, Tottenham
REFRESH-INTERVAL;VALUE=DURATION:PT1H
X-Robots-Tag:noindex
X-PUBLISHED-TTL:PT1H
BEGIN:VTIMEZONE
TZID:Europe/London
BEGIN:DAYLIGHT
TZOFFSETFROM:+0000
TZOFFSETTO:+0100
TZNAME:BST
DTSTART:20170326T010000
END:DAYLIGHT
BEGIN:STANDARD
TZOFFSETFROM:+0100
TZOFFSETTO:+0000
TZNAME:GMT
DTSTART:20171029T010000
END:STANDARD
BEGIN:DAYLIGHT
TZOFFSETFROM:+0000
TZOFFSETTO:+0100
TZNAME:BST
DTSTART:20180325T010000
END:DAYLIGHT
BEGIN:STANDARD
TZOFFSETFROM:+0100
TZOFFSETTO:+0000
TZNAME:GMT
DTSTART:20181028T010000
END:STANDARD
BEGIN:DAYLIGHT
TZOFFSETFROM:+0000
TZOFFSETTO:+0100
TZNAME:BST
DTSTART:20190331T010000
END:DAYLIGHT
BEGIN:STANDARD
TZOFFSETFROM:+0100
TZOFFSETTO:+0000
TZNAME:GMT
DTSTART:20191027T010000
END:STANDARD
END:VTIMEZONE
BEGIN:VEVENT
DTSTART;TZID=Europe/London:20181130T193000
DTEND;TZID=Europe/London:20181130T220000
DTSTAMP:20260420T010135
CREATED:20181006T163008Z
LAST-MODIFIED:20181006T163008Z
UID:1281-1543606200-1543615200@www.stbenetfink.org.uk
SUMMARY:Wine Tasting Evening
DESCRIPTION:This popular event returns to St Benet’s. Contact us for tickets and further details.
URL:https://www.stbenetfink.org.uk/event/wine-tasting-evening/
LOCATION:St Benet Fink Parish Hall\, Walpole Road\, London\, N17 6BH\, United Kingdom
CATEGORIES:Social
END:VEVENT
BEGIN:VEVENT
DTSTART;TZID=Europe/London:20181130T193000
DTEND;TZID=Europe/London:20181130T220000
DTSTAMP:20260420T010135
CREATED:20181006T163008Z
LAST-MODIFIED:20181006T163008Z
UID:1356-1543606200-1543615200@www.stbenetfink.org.uk
SUMMARY:Wine Tasting Evening
DESCRIPTION:This popular event returns to St Benet’s. Contact us for tickets and further details.
URL:https://www.stbenetfink.org.uk/event/wine-tasting-evening-2/
LOCATION:St Benet Fink Parish Hall\, Walpole Road\, London\, N17 6BH\, United Kingdom
CATEGORIES:Social
END:VEVENT
BEGIN:VEVENT
DTSTART;TZID=Europe/London:20181118T110000
DTEND;TZID=Europe/London:20181118T133000
DTSTAMP:20260420T010135
CREATED:20181006T162642Z
LAST-MODIFIED:20181006T162642Z
UID:1277-1542538800-1542547800@www.stbenetfink.org.uk
SUMMARY:Choir Sunday Mass with Canapés & Fizz
DESCRIPTION:Our choir of professional musicians lead us in worship of Almighty God at this beautiful service. We have Sunday School for children during the service. After Mass all are invited to stay behind and enjoy a selection of Canapés and Fizz as we continue to enjoy fellowship with one another and seek to live out our Christian and Benedictine values.
URL:https://www.stbenetfink.org.uk/event/choir-sunday-mass-with-canapes-fizz-2/
CATEGORIES:worship
END:VEVENT
BEGIN:VEVENT
DTSTART;TZID=Europe/London:20181118T110000
DTEND;TZID=Europe/London:20181118T133000
DTSTAMP:20260420T010135
CREATED:20181006T162642Z
LAST-MODIFIED:20181006T162642Z
UID:1354-1542538800-1542547800@www.stbenetfink.org.uk
SUMMARY:Choir Sunday Mass with Canapés & Fizz
DESCRIPTION:Our choir of professional musicians lead us in worship of Almighty God at this beautiful service. We have Sunday School for children during the service. After Mass all are invited to stay behind and enjoy a selection of Canapés and Fizz as we continue to enjoy fellowship with one another and seek to live out our Christian and Benedictine values.
URL:https://www.stbenetfink.org.uk/event/choir-sunday-mass-with-canapes-fizz-2-2/
CATEGORIES:worship
END:VEVENT
END:VCALENDAR